BEGIN:VCALENDAR
VERSION:2.0
PRODID:-// - ECPv6.15.20//NONSGML v1.0//EN
CALSCALE:GREGORIAN
METHOD:PUBLISH
X-ORIGINAL-URL:https://www.golfindustry.asia
X-WR-CALDESC:Events for 
REFRESH-INTERVAL;VALUE=DURATION:PT1H
X-Robots-Tag:noindex
X-PUBLISHED-TTL:PT1H
BEGIN:VTIMEZONE
TZID:Australia/Brisbane
BEGIN:STANDARD
TZOFFSETFROM:+1000
TZOFFSETTO:+1000
TZNAME:AEST
DTSTART:20240101T000000
END:STANDARD
END:VTIMEZONE
BEGIN:VTIMEZONE
TZID:Asia/Seoul
BEGIN:STANDARD
TZOFFSETFROM:+0900
TZOFFSETTO:+0900
TZNAME:KST
DTSTART:20240101T000000
END:STANDARD
END:VTIMEZONE
BEGIN:VTIMEZONE
TZID:America/Los_Angeles
BEGIN:DAYLIGHT
TZOFFSETFROM:-0800
TZOFFSETTO:-0700
TZNAME:PDT
DTSTART:20240310T100000
END:DAYLIGHT
BEGIN:STANDARD
TZOFFSETFROM:-0700
TZOFFSETTO:-0800
TZNAME:PST
DTSTART:20241103T090000
END:STANDARD
BEGIN:DAYLIGHT
TZOFFSETFROM:-0800
TZOFFSETTO:-0700
TZNAME:PDT
DTSTART:20250309T100000
END:DAYLIGHT
BEGIN:STANDARD
TZOFFSETFROM:-0700
TZOFFSETTO:-0800
TZNAME:PST
DTSTART:20251102T090000
END:STANDARD
BEGIN:DAYLIGHT
TZOFFSETFROM:-0800
TZOFFSETTO:-0700
TZNAME:PDT
DTSTART:20260308T100000
END:DAYLIGHT
BEGIN:STANDARD
TZOFFSETFROM:-0700
TZOFFSETTO:-0800
TZNAME:PST
DTSTART:20261101T090000
END:STANDARD
END:VTIMEZONE
BEGIN:VEVENT
DTSTART;TZID=Australia/Brisbane:20250308T080000
DTEND;TZID=Australia/Brisbane:20250309T170000
DTSTAMP:20260424T162429
CREATED:20250303T094754Z
LAST-MODIFIED:20250303T094754Z
UID:2063-1741420800-1741539600@www.golfindustry.asia
SUMMARY:Golfcon 2025
DESCRIPTION:Marriott Grand Ballroom \, Pasay City\, Philippines
URL:https://www.golfindustry.asia/event/golfcon-2025/
CATEGORIES:All events
ATTACH;FMTTYPE=:
END:VEVENT
BEGIN:VEVENT
DTSTART;TZID=Asia/Seoul:20250207T080000
DTEND;TZID=Asia/Seoul:20250209T170000
DTSTAMP:20260424T162429
CREATED:20250130T071145Z
LAST-MODIFIED:20250130T071145Z
UID:1751-1738915200-1739120400@www.golfindustry.asia
SUMMARY:The Maekyung and KPGA Golf Expo
DESCRIPTION:The Maekyung and KPGA Golf Expo\, which is held every spring\, will be held at COEX B Hall in Samseong-dong\, Gangnam-gu\, Seoul from February 7-9. In particular\, RX\, the organizer of the U.S. PGA Show\, which gives a glimpse of trends in the global golf market every January\, is expected to improve the quality of the event. \nThe Maekyung and KPGA Golf Expo is expected to be a great opportunity to solve the thirst for golf that has accumulated throughout the winter. \nMAEKYUNG·KPGA GOLF EXPO 2025
URL:https://www.golfindustry.asia/event/the-maekyung-and-kpga-golf-expo/
CATEGORIES:All events
ATTACH;FMTTYPE=:
END:VEVENT
BEGIN:VEVENT
DTSTART;TZID=America/Los_Angeles:20250203T080000
DTEND;TZID=America/Los_Angeles:20250206T170000
DTSTAMP:20260424T162429
CREATED:20250130T070545Z
LAST-MODIFIED:20250130T070545Z
UID:1746-1738569600-1738861200@www.golfindustry.asia
SUMMARY:GCSAA Conference and Trade Show
DESCRIPTION:GCSAA is dedicated to serving its members\, advancing their profession and improving communities through the enjoyment\, growth and vitality of the game of golf. \nAn interactive experience you won’t find anywhere else \nClick here for further information
URL:https://www.golfindustry.asia/event/gcsaa-conference-and-trade-show/
CATEGORIES:All events
ATTACH;FMTTYPE=image/jpeg:https://www.golfindustry.asia/wp-content/uploads/2025/01/san-diego-web-header_dates_1182x185-version-3-e1738213503352.jpg
END:VEVENT
END:VCALENDAR